BEGIN:VCALENDAR
VERSION:2.0
PRODID:-//Slow Food Sonoma County North - ECPv6.15.20//NONSGML v1.0//EN
CALSCALE:GREGORIAN
METHOD:PUBLISH
X-WR-CALNAME:Slow Food Sonoma County North
X-ORIGINAL-URL:https://www.slowfoodsonomacountynorth.org
X-WR-CALDESC:Events for Slow Food Sonoma County North
REFRESH-INTERVAL;VALUE=DURATION:PT1H
X-Robots-Tag:noindex
X-PUBLISHED-TTL:PT1H
BEGIN:VTIMEZONE
TZID:America/Los_Angeles
BEGIN:DAYLIGHT
TZOFFSETFROM:-0800
TZOFFSETTO:-0700
TZNAME:PDT
DTSTART:20210314T100000
END:DAYLIGHT
BEGIN:STANDARD
TZOFFSETFROM:-0700
TZOFFSETTO:-0800
TZNAME:PST
DTSTART:20211107T090000
END:STANDARD
BEGIN:DAYLIGHT
TZOFFSETFROM:-0800
TZOFFSETTO:-0700
TZNAME:PDT
DTSTART:20220313T100000
END:DAYLIGHT
BEGIN:STANDARD
TZOFFSETFROM:-0700
TZOFFSETTO:-0800
TZNAME:PST
DTSTART:20221106T090000
END:STANDARD
BEGIN:DAYLIGHT
TZOFFSETFROM:-0800
TZOFFSETTO:-0700
TZNAME:PDT
DTSTART:20230312T100000
END:DAYLIGHT
BEGIN:STANDARD
TZOFFSETFROM:-0700
TZOFFSETTO:-0800
TZNAME:PST
DTSTART:20231105T090000
END:STANDARD
END:VTIMEZONE
BEGIN:VEVENT
DTSTART;TZID=America/Los_Angeles:20221109T173000
DTEND;TZID=America/Los_Angeles:20221109T190000
DTSTAMP:20260424T165746
CREATED:20221029T224819Z
LAST-MODIFIED:20221029T224819Z
UID:3730-1668015000-1668020400@www.slowfoodsonomacountynorth.org
SUMMARY:Slow Books - Beans: A History by Ken Albala
DESCRIPTION:Our Slow Books group is currently full\, this month we are reading – Beans: A History by Ken Albala
URL:https://www.slowfoodsonomacountynorth.org/events/slow-books-beans-a-history-by-ken-albala/
CATEGORIES:Books
END:VEVENT
END:VCALENDAR